BEGIN:VCALENDAR
VERSION:2.0
PRODID:-//NCTF - ECPv6.15.20//NONSGML v1.0//EN
CALSCALE:GREGORIAN
METHOD:PUBLISH
X-WR-CALNAME:NCTF
X-ORIGINAL-URL:https://www.nctfpa.org
X-WR-CALDESC:Events for NCTF
REFRESH-INTERVAL;VALUE=DURATION:PT1H
X-Robots-Tag:noindex
X-PUBLISHED-TTL:PT1H
BEGIN:VTIMEZONE
TZID:America/New_York
BEGIN:DAYLIGHT
TZOFFSETFROM:-0500
TZOFFSETTO:-0400
TZNAME:EDT
DTSTART:20240310T070000
END:DAYLIGHT
BEGIN:STANDARD
TZOFFSETFROM:-0400
TZOFFSETTO:-0500
TZNAME:EST
DTSTART:20241103T060000
END:STANDARD
BEGIN:DAYLIGHT
TZOFFSETFROM:-0500
TZOFFSETTO:-0400
TZNAME:EDT
DTSTART:20250309T070000
END:DAYLIGHT
BEGIN:STANDARD
TZOFFSETFROM:-0400
TZOFFSETTO:-0500
TZNAME:EST
DTSTART:20251102T060000
END:STANDARD
BEGIN:DAYLIGHT
TZOFFSETFROM:-0500
TZOFFSETTO:-0400
TZNAME:EDT
DTSTART:20260308T070000
END:DAYLIGHT
BEGIN:STANDARD
TZOFFSETFROM:-0400
TZOFFSETTO:-0500
TZNAME:EST
DTSTART:20261101T060000
END:STANDARD
END:VTIMEZONE
BEGIN:VEVENT
DTSTART;TZID=America/New_York:20250626T100000
DTEND;TZID=America/New_York:20250626T140000
DTSTAMP:20260419T084045
CREATED:20250529T161653Z
LAST-MODIFIED:20250529T162545Z
UID:10000186-1750932000-1750946400@www.nctfpa.org
SUMMARY:NCTF Full Committee Executive Board Meeting
DESCRIPTION:The North Central Task Force invites all committee members to attend their June 26 Executive Board meeting. The meeting will begin at 10:00am at the Pine Barn Inn in Danville.  Committees will give a brief report on where their committee is and their goals for the future. Looking forward to seeing all of you! \n  \nLunch will be provided.
URL:https://www.nctfpa.org/event/nctf-full-committee-executive-board-meeting-3/
LOCATION:Pine Barn Inn\, 43 Pine Barn Place\, Danville\, PA\, 17821
ORGANIZER;CN="North Central Task Force":MAILTO:dpagnotto@piccc.org
END:VEVENT
END:VCALENDAR