BEGIN:VCALENDAR
VERSION:2.0
PRODID:-//NCTF - ECPv6.15.20//NONSGML v1.0//EN
CALSCALE:GREGORIAN
METHOD:PUBLISH
X-WR-CALNAME:NCTF
X-ORIGINAL-URL:https://www.nctfpa.org
X-WR-CALDESC:Events for NCTF
REFRESH-INTERVAL;VALUE=DURATION:PT1H
X-Robots-Tag:noindex
X-PUBLISHED-TTL:PT1H
BEGIN:VTIMEZONE
TZID:America/New_York
BEGIN:DAYLIGHT
TZOFFSETFROM:-0500
TZOFFSETTO:-0400
TZNAME:EDT
DTSTART:20210314T070000
END:DAYLIGHT
BEGIN:STANDARD
TZOFFSETFROM:-0400
TZOFFSETTO:-0500
TZNAME:EST
DTSTART:20211107T060000
END:STANDARD
BEGIN:DAYLIGHT
TZOFFSETFROM:-0500
TZOFFSETTO:-0400
TZNAME:EDT
DTSTART:20220313T070000
END:DAYLIGHT
BEGIN:STANDARD
TZOFFSETFROM:-0400
TZOFFSETTO:-0500
TZNAME:EST
DTSTART:20221106T060000
END:STANDARD
BEGIN:DAYLIGHT
TZOFFSETFROM:-0500
TZOFFSETTO:-0400
TZNAME:EDT
DTSTART:20230312T070000
END:DAYLIGHT
BEGIN:STANDARD
TZOFFSETFROM:-0400
TZOFFSETTO:-0500
TZNAME:EST
DTSTART:20231105T060000
END:STANDARD
BEGIN:DAYLIGHT
TZOFFSETFROM:-0500
TZOFFSETTO:-0400
TZNAME:EDT
DTSTART:20240310T070000
END:DAYLIGHT
BEGIN:STANDARD
TZOFFSETFROM:-0400
TZOFFSETTO:-0500
TZNAME:EST
DTSTART:20241103T060000
END:STANDARD
END:VTIMEZONE
BEGIN:VEVENT
DTSTART;TZID=America/New_York:20230523T100000
DTEND;TZID=America/New_York:20230523T140000
DTSTAMP:20260424T163928
CREATED:20220719T024451Z
LAST-MODIFIED:20220901T193752Z
UID:10000072-1684836000-1684850400@www.nctfpa.org
SUMMARY:Training & Exercise Committee
DESCRIPTION:The NCTF Training & Exercise Committee meets the 4th Tuesday of every month at 10:00 am.
URL:https://www.nctfpa.org/event/training-exercise-committee/2023-05-23/
CATEGORIES:Committee Meetings
END:VEVENT
BEGIN:VEVENT
DTSTART;TZID=America/New_York:20230511T100000
DTEND;TZID=America/New_York:20230511T140000
DTSTAMP:20260424T163928
CREATED:20230119T142414Z
LAST-MODIFIED:20230119T142415Z
UID:10000147-1683799200-1683813600@www.nctfpa.org
SUMMARY:Fire Rescue Hazmat Committee
DESCRIPTION:The NCTF Fire Rescue Hazmat Committee meets on the 2nd Thursday of every month at 10:00 am.
URL:https://www.nctfpa.org/event/fire-rescue-hazmat-committee-2-2/2023-05-11/
CATEGORIES:Committee Meetings
END:VEVENT
BEGIN:VEVENT
DTSTART;TZID=America/New_York:20230509T100000
DTEND;TZID=America/New_York:20230509T140000
DTSTAMP:20260424T163928
CREATED:20220719T023209Z
LAST-MODIFIED:20220831T191911Z
UID:10000045-1683626400-1683640800@www.nctfpa.org
SUMMARY:Law Enforcement Committee
DESCRIPTION:The NCTF Law Enforcement Committee meets the 2nd Tuesday of every month at 10:00 am.
URL:https://www.nctfpa.org/event/law-enforcement-committee/2023-05-09/
CATEGORIES:Committee Meetings
END:VEVENT
BEGIN:VEVENT
DTSTART;TZID=America/New_York:20230503T100000
DTEND;TZID=America/New_York:20230503T140000
DTSTAMP:20260424T163928
CREATED:20221206T185246Z
LAST-MODIFIED:20221206T185318Z
UID:10000110-1683108000-1683122400@www.nctfpa.org
SUMMARY:EMS Committee
DESCRIPTION:The NCTF EMS Committee meets the 1st Wednesday of every month at 10:00 am. \nPlease log into the member resources area for location information and upcoming agendas.
URL:https://www.nctfpa.org/event/ems-committee-2/2023-05-03/
CATEGORIES:Committee Meetings
END:VEVENT
BEGIN:VEVENT
DTSTART;TZID=America/New_York:20230427T100000
DTEND;TZID=America/New_York:20230427T140000
DTSTAMP:20260424T163928
CREATED:20220719T024940Z
LAST-MODIFIED:20220928T182310Z
UID:10000085-1682589600-1682604000@www.nctfpa.org
SUMMARY:Executive Board Meeting
DESCRIPTION:The NCTF Executive Board meets the 4th Thursday of every month at 10:00 am\, except November.
URL:https://www.nctfpa.org/event/executive-board-meeting/2023-04-27/
CATEGORIES:Committee Meetings
END:VEVENT
BEGIN:VEVENT
DTSTART;TZID=America/New_York:20230426T100000
DTEND;TZID=America/New_York:20230426T140000
DTSTAMP:20260424T163928
CREATED:20221206T185459Z
LAST-MODIFIED:20221206T185651Z
UID:10000135-1682503200-1682517600@www.nctfpa.org
SUMMARY:Communications Committee Meeting
DESCRIPTION:The NCTF Communications Committee meets the 4th Wednesday of every month at 10:00 am.
URL:https://www.nctfpa.org/event/communications-committee-meeting-2/2023-04-26/
CATEGORIES:Committee Meetings
END:VEVENT
BEGIN:VEVENT
DTSTART;TZID=America/New_York:20230425T100000
DTEND;TZID=America/New_York:20230425T140000
DTSTAMP:20260424T163928
CREATED:20220719T024451Z
LAST-MODIFIED:20220901T193752Z
UID:10000071-1682416800-1682431200@www.nctfpa.org
SUMMARY:Training & Exercise Committee
DESCRIPTION:The NCTF Training & Exercise Committee meets the 4th Tuesday of every month at 10:00 am.
URL:https://www.nctfpa.org/event/training-exercise-committee/2023-04-25/
CATEGORIES:Committee Meetings
END:VEVENT
BEGIN:VEVENT
DTSTART;TZID=America/New_York:20230413T100000
DTEND;TZID=America/New_York:20230413T140000
DTSTAMP:20260424T163928
CREATED:20230119T142414Z
LAST-MODIFIED:20230119T142415Z
UID:10000146-1681380000-1681394400@www.nctfpa.org
SUMMARY:Fire Rescue Hazmat Committee
DESCRIPTION:The NCTF Fire Rescue Hazmat Committee meets on the 2nd Thursday of every month at 10:00 am.
URL:https://www.nctfpa.org/event/fire-rescue-hazmat-committee-2-2/2023-04-13/
CATEGORIES:Committee Meetings
END:VEVENT
BEGIN:VEVENT
DTSTART;TZID=America/New_York:20230411T100000
DTEND;TZID=America/New_York:20230411T140000
DTSTAMP:20260424T163928
CREATED:20220719T023209Z
LAST-MODIFIED:20220831T191911Z
UID:10000044-1681207200-1681221600@www.nctfpa.org
SUMMARY:Law Enforcement Committee
DESCRIPTION:The NCTF Law Enforcement Committee meets the 2nd Tuesday of every month at 10:00 am.
URL:https://www.nctfpa.org/event/law-enforcement-committee/2023-04-11/
CATEGORIES:Committee Meetings
END:VEVENT
BEGIN:VEVENT
DTSTART;TZID=America/New_York:20230405T100000
DTEND;TZID=America/New_York:20230405T140000
DTSTAMP:20260424T163928
CREATED:20221206T185246Z
LAST-MODIFIED:20221206T185318Z
UID:10000109-1680688800-1680703200@www.nctfpa.org
SUMMARY:EMS Committee
DESCRIPTION:The NCTF EMS Committee meets the 1st Wednesday of every month at 10:00 am. \nPlease log into the member resources area for location information and upcoming agendas.
URL:https://www.nctfpa.org/event/ems-committee-2/2023-04-05/
CATEGORIES:Committee Meetings
END:VEVENT
BEGIN:VEVENT
DTSTART;TZID=America/New_York:20230328T100000
DTEND;TZID=America/New_York:20230328T140000
DTSTAMP:20260424T163928
CREATED:20220719T024451Z
LAST-MODIFIED:20220901T193752Z
UID:10000070-1679997600-1680012000@www.nctfpa.org
SUMMARY:Training & Exercise Committee
DESCRIPTION:The NCTF Training & Exercise Committee meets the 4th Tuesday of every month at 10:00 am.
URL:https://www.nctfpa.org/event/training-exercise-committee/2023-03-28/
CATEGORIES:Committee Meetings
END:VEVENT
BEGIN:VEVENT
DTSTART;TZID=America/New_York:20230323T100000
DTEND;TZID=America/New_York:20230323T140000
DTSTAMP:20260424T163928
CREATED:20220719T024940Z
LAST-MODIFIED:20220928T182310Z
UID:10000084-1679565600-1679580000@www.nctfpa.org
SUMMARY:Executive Board Meeting
DESCRIPTION:The NCTF Executive Board meets the 4th Thursday of every month at 10:00 am\, except November.
URL:https://www.nctfpa.org/event/executive-board-meeting/2023-03-23/
CATEGORIES:Committee Meetings
END:VEVENT
BEGIN:VEVENT
DTSTART;TZID=America/New_York:20230322T100000
DTEND;TZID=America/New_York:20230322T140000
DTSTAMP:20260424T163928
CREATED:20221206T185459Z
LAST-MODIFIED:20221206T185651Z
UID:10000134-1679479200-1679493600@www.nctfpa.org
SUMMARY:Communications Committee Meeting
DESCRIPTION:The NCTF Communications Committee meets the 4th Wednesday of every month at 10:00 am.
URL:https://www.nctfpa.org/event/communications-committee-meeting-2/2023-03-22/
CATEGORIES:Committee Meetings
END:VEVENT
BEGIN:VEVENT
DTSTART;TZID=America/New_York:20230314T100000
DTEND;TZID=America/New_York:20230314T140000
DTSTAMP:20260424T163928
CREATED:20220719T023209Z
LAST-MODIFIED:20220831T191911Z
UID:10000043-1678788000-1678802400@www.nctfpa.org
SUMMARY:Law Enforcement Committee
DESCRIPTION:The NCTF Law Enforcement Committee meets the 2nd Tuesday of every month at 10:00 am.
URL:https://www.nctfpa.org/event/law-enforcement-committee/2023-03-14/
CATEGORIES:Committee Meetings
END:VEVENT
BEGIN:VEVENT
DTSTART;TZID=America/New_York:20230309T100000
DTEND;TZID=America/New_York:20230309T140000
DTSTAMP:20260424T163928
CREATED:20230119T142414Z
LAST-MODIFIED:20230119T142415Z
UID:10000145-1678356000-1678370400@www.nctfpa.org
SUMMARY:Fire Rescue Hazmat Committee
DESCRIPTION:The NCTF Fire Rescue Hazmat Committee meets on the 2nd Thursday of every month at 10:00 am.
URL:https://www.nctfpa.org/event/fire-rescue-hazmat-committee-2-2/2023-03-09/
CATEGORIES:Committee Meetings
END:VEVENT
BEGIN:VEVENT
DTSTART;TZID=America/New_York:20230301T100000
DTEND;TZID=America/New_York:20230301T140000
DTSTAMP:20260424T163928
CREATED:20221206T185246Z
LAST-MODIFIED:20221206T185318Z
UID:10000108-1677664800-1677679200@www.nctfpa.org
SUMMARY:EMS Committee
DESCRIPTION:The NCTF EMS Committee meets the 1st Wednesday of every month at 10:00 am. \nPlease log into the member resources area for location information and upcoming agendas.
URL:https://www.nctfpa.org/event/ems-committee-2/2023-03-01/
CATEGORIES:Committee Meetings
END:VEVENT
BEGIN:VEVENT
DTSTART;TZID=America/New_York:20230228T100000
DTEND;TZID=America/New_York:20230228T140000
DTSTAMP:20260424T163928
CREATED:20220719T024451Z
LAST-MODIFIED:20220901T193752Z
UID:10000069-1677578400-1677592800@www.nctfpa.org
SUMMARY:Training & Exercise Committee
DESCRIPTION:The NCTF Training & Exercise Committee meets the 4th Tuesday of every month at 10:00 am.
URL:https://www.nctfpa.org/event/training-exercise-committee/2023-02-28/
CATEGORIES:Committee Meetings
END:VEVENT
BEGIN:VEVENT
DTSTART;TZID=America/New_York:20230223T100000
DTEND;TZID=America/New_York:20230223T140000
DTSTAMP:20260424T163928
CREATED:20220719T024940Z
LAST-MODIFIED:20220928T182310Z
UID:10000083-1677146400-1677160800@www.nctfpa.org
SUMMARY:Executive Board Meeting
DESCRIPTION:The NCTF Executive Board meets the 4th Thursday of every month at 10:00 am\, except November.
URL:https://www.nctfpa.org/event/executive-board-meeting/2023-02-23/
CATEGORIES:Committee Meetings
END:VEVENT
BEGIN:VEVENT
DTSTART;TZID=America/New_York:20230222T100000
DTEND;TZID=America/New_York:20230222T140000
DTSTAMP:20260424T163928
CREATED:20221206T185459Z
LAST-MODIFIED:20221206T185651Z
UID:10000133-1677060000-1677074400@www.nctfpa.org
SUMMARY:Communications Committee Meeting
DESCRIPTION:The NCTF Communications Committee meets the 4th Wednesday of every month at 10:00 am.
URL:https://www.nctfpa.org/event/communications-committee-meeting-2/2023-02-22/
CATEGORIES:Committee Meetings
END:VEVENT
BEGIN:VEVENT
DTSTART;TZID=America/New_York:20230214T100000
DTEND;TZID=America/New_York:20230214T140000
DTSTAMP:20260424T163928
CREATED:20220719T023209Z
LAST-MODIFIED:20220831T191911Z
UID:10000042-1676368800-1676383200@www.nctfpa.org
SUMMARY:Law Enforcement Committee
DESCRIPTION:The NCTF Law Enforcement Committee meets the 2nd Tuesday of every month at 10:00 am.
URL:https://www.nctfpa.org/event/law-enforcement-committee/2023-02-14/
CATEGORIES:Committee Meetings
END:VEVENT
BEGIN:VEVENT
DTSTART;TZID=America/New_York:20230209T100000
DTEND;TZID=America/New_York:20230209T140000
DTSTAMP:20260424T163928
CREATED:20230119T142414Z
LAST-MODIFIED:20230119T142415Z
UID:10000116-1675936800-1675951200@www.nctfpa.org
SUMMARY:Fire Rescue Hazmat Committee
DESCRIPTION:The NCTF Fire Rescue Hazmat Committee meets on the 2nd Thursday of every month at 10:00 am.
URL:https://www.nctfpa.org/event/fire-rescue-hazmat-committee-2-2/2023-02-09/
CATEGORIES:Committee Meetings
END:VEVENT
BEGIN:VEVENT
DTSTART;TZID=America/New_York:20230201T100000
DTEND;TZID=America/New_York:20230201T140000
DTSTAMP:20260424T163928
CREATED:20221206T185246Z
LAST-MODIFIED:20221206T185318Z
UID:10000107-1675245600-1675260000@www.nctfpa.org
SUMMARY:EMS Committee
DESCRIPTION:The NCTF EMS Committee meets the 1st Wednesday of every month at 10:00 am. \nPlease log into the member resources area for location information and upcoming agendas.
URL:https://www.nctfpa.org/event/ems-committee-2/2023-02-01/
CATEGORIES:Committee Meetings
END:VEVENT
BEGIN:VEVENT
DTSTART;TZID=America/New_York:20230126T100000
DTEND;TZID=America/New_York:20230126T140000
DTSTAMP:20260424T163928
CREATED:20220719T024940Z
LAST-MODIFIED:20220928T182310Z
UID:10000082-1674727200-1674741600@www.nctfpa.org
SUMMARY:Executive Board Meeting
DESCRIPTION:The NCTF Executive Board meets the 4th Thursday of every month at 10:00 am\, except November.
URL:https://www.nctfpa.org/event/executive-board-meeting/2023-01-26/
CATEGORIES:Committee Meetings
END:VEVENT
BEGIN:VEVENT
DTSTART;TZID=America/New_York:20230125T100000
DTEND;TZID=America/New_York:20230125T140000
DTSTAMP:20260424T163928
CREATED:20221206T185459Z
LAST-MODIFIED:20221206T185651Z
UID:10000132-1674640800-1674655200@www.nctfpa.org
SUMMARY:Communications Committee Meeting
DESCRIPTION:The NCTF Communications Committee meets the 4th Wednesday of every month at 10:00 am.
URL:https://www.nctfpa.org/event/communications-committee-meeting-2/2023-01-25/
CATEGORIES:Committee Meetings
END:VEVENT
BEGIN:VEVENT
DTSTART;TZID=America/New_York:20230124T100000
DTEND;TZID=America/New_York:20230124T140000
DTSTAMP:20260424T163928
CREATED:20220719T024451Z
LAST-MODIFIED:20220901T193752Z
UID:10000068-1674554400-1674568800@www.nctfpa.org
SUMMARY:Training & Exercise Committee
DESCRIPTION:The NCTF Training & Exercise Committee meets the 4th Tuesday of every month at 10:00 am.
URL:https://www.nctfpa.org/event/training-exercise-committee/2023-01-24/
CATEGORIES:Committee Meetings
END:VEVENT
BEGIN:VEVENT
DTSTART;TZID=America/New_York:20230110T100000
DTEND;TZID=America/New_York:20230110T140000
DTSTAMP:20260424T163928
CREATED:20220719T023209Z
LAST-MODIFIED:20220831T191911Z
UID:10000041-1673344800-1673359200@www.nctfpa.org
SUMMARY:Law Enforcement Committee
DESCRIPTION:The NCTF Law Enforcement Committee meets the 2nd Tuesday of every month at 10:00 am.
URL:https://www.nctfpa.org/event/law-enforcement-committee/2023-01-10/
CATEGORIES:Committee Meetings
END:VEVENT
BEGIN:VEVENT
DTSTART;TZID=America/New_York:20230108T100000
DTEND;TZID=America/New_York:20230108T140000
DTSTAMP:20260424T163928
CREATED:20221206T185406Z
LAST-MODIFIED:20221206T185406Z
UID:10000115-1673172000-1673186400@www.nctfpa.org
SUMMARY:Fire Rescue Hazmat Committee
DESCRIPTION:The NCTF Fire Rescue Hazmat Committee meets on the 2nd Thursday of every month at 10:00 am.
URL:https://www.nctfpa.org/event/fire-rescue-hazmat-committee-2/2023-01-08/
CATEGORIES:Committee Meetings
END:VEVENT
BEGIN:VEVENT
DTSTART;TZID=America/New_York:20230104T100000
DTEND;TZID=America/New_York:20230104T140000
DTSTAMP:20260424T163928
CREATED:20221206T185246Z
LAST-MODIFIED:20221206T185318Z
UID:10000106-1672826400-1672840800@www.nctfpa.org
SUMMARY:EMS Committee
DESCRIPTION:The NCTF EMS Committee meets the 1st Wednesday of every month at 10:00 am. \nPlease log into the member resources area for location information and upcoming agendas.
URL:https://www.nctfpa.org/event/ems-committee-2/2023-01-04/
CATEGORIES:Committee Meetings
END:VEVENT
BEGIN:VEVENT
DTSTART;TZID=America/New_York:20221228T100000
DTEND;TZID=America/New_York:20221228T140000
DTSTAMP:20260424T163928
CREATED:20221206T185459Z
LAST-MODIFIED:20221206T185651Z
UID:10000026-1672221600-1672236000@www.nctfpa.org
SUMMARY:Communications Committee Meeting
DESCRIPTION:The NCTF Communications Committee meets the 4th Wednesday of every month at 10:00 am.
URL:https://www.nctfpa.org/event/communications-committee-meeting-2/2022-12-28/
CATEGORIES:Committee Meetings
END:VEVENT
BEGIN:VEVENT
DTSTART;TZID=America/New_York:20221227T100000
DTEND;TZID=America/New_York:20221227T140000
DTSTAMP:20260424T163928
CREATED:20220719T024451Z
LAST-MODIFIED:20220901T193752Z
UID:10000067-1672135200-1672149600@www.nctfpa.org
SUMMARY:Training & Exercise Committee
DESCRIPTION:The NCTF Training & Exercise Committee meets the 4th Tuesday of every month at 10:00 am.
URL:https://www.nctfpa.org/event/training-exercise-committee/2022-12-27/
CATEGORIES:Committee Meetings
END:VEVENT
END:VCALENDAR